BEGIN:VCALENDAR
VERSION:2.0
PRODID:-//Kulvio Event Calendar//kulvio.de//
CALSCALE:GREGORIAN
METHOD:PUBLISH
BEGIN:VEVENT
SUMMARY:Tanz in den Mai im Culture Club Hanau
DTSTART:20260430T190000Z
DTEND:20260501T020000Z
DTSTAMP:20260423T030027Z
UID:kulvio-event-3384@kulvio.de
CATEGORIES:Party,Konzert,Tanz
CREATED:20260422T084742Z
DESCRIPTION:Der Culture Club Hanau feiert mit einer großen Tanz-in-den-Ma
 i-Party den Vorabend des 1. Mai. Die Liveband Helium6 sorgt für Musik und
  Stimmung auf der Tanzfläche des Clubs an der Pulvermühle. Der Culture C
 lub ist eine feste Größe im Hanauer Nachtleben und bietet regelmäßig K
 onzerte und Partys. Das Event richtet sich an alle\, die den Mai tanzend b
 egrüßen möchten.
GEO:50.119334;8.960246
LAST-MODIFIED:20260422T084846Z
LOCATION:Culture Club\, Vor der Pulvermühle 11\, 63457\, Hanau
STATUS:CONFIRMED
URL:https://kulvio.de/event/3384
END:VEVENT
END:VCALENDAR
