BEGIN:VCALENDAR
VERSION:2.0
PRODID:-//Kulvio Event Calendar//kulvio.de//
CALSCALE:GREGORIAN
METHOD:PUBLISH
BEGIN:VEVENT
SUMMARY:90er Party — Grand Opening Domino Cocktailbar
DTSTART:20260621T190000Z
DTEND:20260621T200000Z
DTSTAMP:20260423T025410Z
UID:kulvio-event-3385@kulvio.de
CATEGORIES:Party
CREATED:20260422T084742Z
DESCRIPTION:Die Domino Cocktailbar in Aschaffenburg feiert ihre Eröffnung
  mit einer großen 90er-Jahre-Party. DJs spielen die besten Hits des Jahrz
 ehnts von Eurodance bis Hip-Hop auf der Tanzfläche der frisch eröffneten
  Bar in der Wermbachstraße. Das Grand Opening verbindet Cocktailbar-Atmos
 phäre mit Clubnacht und richtet sich an alle Fans der 90er-Ära. Die Domi
 no Cocktailbar ist eine neue Adresse im Aschaffenburger Nachtleben.
GEO:49.974317;9.147915
LAST-MODIFIED:20260422T084846Z
LOCATION:Domino Cocktailbar\, Wermbachstraße 13\, 63739\, Aschaffenburg
STATUS:CONFIRMED
URL:https://kulvio.de/event/3385
END:VEVENT
END:VCALENDAR
