BEGIN:VCALENDAR
VERSION:2.0
PRODID:-//Kulvio Event Calendar//kulvio.de//
CALSCALE:GREGORIAN
METHOD:PUBLISH
BEGIN:VEVENT
SUMMARY:Kommune2010 Open Air — Hippie meets Techno
DTSTART:20260613T120000Z
DTEND:20260613T200000Z
DTSTAMP:20260423T022850Z
UID:kulvio-event-3386@kulvio.de
CATEGORIES:Festival,Club,Open-Air
CREATED:20260422T084742Z
DESCRIPTION:Das Kommune2010 Open Air in Offenbach verbindet Hippie-Kultur 
 mit elektronischer Musik unter freiem Himmel. Auf dem Gelände an der Spre
 ndlinger Landstraße legen DJs Techno und House auf\, während das Ambient
 e von bunter Festival-Dekoration geprägt ist. Die Kommune2010 ist ein Kul
 turprojekt in Offenbach\, das regelmäßig Open-Air-Veranstaltungen mit el
 ektronischer Musik organisiert. Das Event richtet sich an Fans von Outdoor
 -Partys und elektronischer Tanzmusik.
GEO:50.083797;8.744558
LAST-MODIFIED:20260422T084846Z
LOCATION:Kommune 2010\, Sprendlinger Landstraße 181\, 63065\, Offenbach a
 m Main
STATUS:CONFIRMED
URL:https://kulvio.de/event/3386
END:VEVENT
END:VCALENDAR
